Package: TFEA.ChIP Version: 1.27.0 Command: /home/biocbuild/R/R/bin/R CMD INSTALL TFEA.ChIP StartedAt: 2025-01-29 20:02:11 -0000 (Wed, 29 Jan 2025) EndedAt: 2025-01-29 20:03:06 -0000 (Wed, 29 Jan 2025) EllapsedTime: 54.9 seconds RetCode: 0 Status: OK