Package: TFEA.ChIP Version: 1.27.0 Command: rm -rf TFEA.ChIP.buildbin-libdir && mkdir TFEA.ChIP.buildbin-libdir && /Users/biocbuild/BBS/utils/build-universal.sh TFEA.ChIP_1.27.0.tar.gz /Library/Frameworks/R.framework/Resources/bin/R TFEA.ChIP.buildbin-libdir StartedAt: 2025-02-10 01:20:16 -0500 (Mon, 10 Feb 2025) EndedAt: 2025-02-10 01:21:12 -0500 (Mon, 10 Feb 2025) EllapsedTime: 56.7 seconds RetCode: 0 Status: OK PackageFile: TFEA.ChIP_1.27.0.tgz PackageFileSize: 5.216 MiB