Package: TFEA.ChIP Version: 1.27.0 Command: /home/biocbuild/bbs-3.21-bioc/R/bin/R CMD build --keep-empty-dirs --no-resave-data TFEA.ChIP StartedAt: 2025-02-09 19:35:06 -0500 (Sun, 09 Feb 2025) EndedAt: 2025-02-09 19:36:31 -0500 (Sun, 09 Feb 2025) EllapsedTime: 85.1 seconds RetCode: 0 Status: OK PackageFile: TFEA.ChIP_1.27.0.tar.gz PackageFileSize: 5.255 MiB