Package: TFEA.ChIP Version: 1.27.0 Command: /home/biocbuild/bbs-3.21-bioc/R/bin/R CMD INSTALL TFEA.ChIP StartedAt: 2025-02-09 15:39:16 -0500 (Sun, 09 Feb 2025) EndedAt: 2025-02-09 15:39:57 -0500 (Sun, 09 Feb 2025) EllapsedTime: 41.7 seconds RetCode: 0 Status: OK