Package: TFEA.ChIP Version: 1.27.0 Command: E:\biocbuild\bbs-3.21-bioc\R\bin\R.exe CMD INSTALL TFEA.ChIP StartedAt: 2025-02-09 16:28:40 -0500 (Sun, 09 Feb 2025) EndedAt: 2025-02-09 16:29:42 -0500 (Sun, 09 Feb 2025) EllapsedTime: 62.0 seconds RetCode: 0 Status: OK