Package: TFHAZ Version: 1.29.0 Command: rm -rf TFHAZ.buildbin-libdir && mkdir TFHAZ.buildbin-libdir && /Users/biocbuild/BBS/utils/build-universal.sh TFHAZ_1.29.0.tar.gz /Library/Frameworks/R.framework/Resources/bin/R TFHAZ.buildbin-libdir StartedAt: 2025-02-09 22:33:24 -0500 (Sun, 09 Feb 2025) EndedAt: 2025-02-09 22:33:42 -0500 (Sun, 09 Feb 2025) EllapsedTime: 18.4 seconds RetCode: 0 Status: OK PackageFile: TFHAZ_1.29.0.tgz PackageFileSize: 3.291 MiB