Package: TFHAZ Version: 1.29.0 Command: /Library/Frameworks/R.framework/Resources/bin/R CMD check --install=check:TFHAZ.install-out.txt --library=/Library/Frameworks/R.framework/Resources/library --no-vignettes --timings TFHAZ_1.29.0.tar.gz StartedAt: 2025-02-12 21:49:04 -0500 (Wed, 12 Feb 2025) EndedAt: 2025-02-12 21:50:54 -0500 (Wed, 12 Feb 2025) EllapsedTime: 110.3 seconds RetCode: 0 Status: OK CheckDir: TFHAZ.Rcheck Warnings: 0