Package: TFHAZ Version: 1.29.0 Command: /home/biocbuild/R/R/bin/R CMD INSTALL TFHAZ StartedAt: 2025-01-29 20:05:04 -0000 (Wed, 29 Jan 2025) EndedAt: 2025-01-29 20:06:01 -0000 (Wed, 29 Jan 2025) EllapsedTime: 57.0 seconds RetCode: 0 Status: OK