Package: TFHAZ Version: 1.29.0 Command: rm -rf TFHAZ.buildbin-libdir && mkdir TFHAZ.buildbin-libdir && /Users/biocbuild/BBS/utils/build-universal.sh TFHAZ_1.29.0.tar.gz /Library/Frameworks/R.framework/Resources/bin/R TFHAZ.buildbin-libdir StartedAt: 2025-02-10 01:20:18 -0500 (Mon, 10 Feb 2025) EndedAt: 2025-02-10 01:21:18 -0500 (Mon, 10 Feb 2025) EllapsedTime: 60.2 seconds RetCode: 0 Status: OK PackageFile: TFHAZ_1.29.0.tgz PackageFileSize: 3.29 MiB