Package: TFHAZ Version: 1.29.0 Command: /home/biocbuild/bbs-3.21-bioc/R/bin/R CMD build --keep-empty-dirs --no-resave-data TFHAZ StartedAt: 2025-02-09 19:35:06 -0500 (Sun, 09 Feb 2025) EndedAt: 2025-02-09 19:36:15 -0500 (Sun, 09 Feb 2025) EllapsedTime: 69.1 seconds RetCode: 0 Status: OK PackageFile: TFHAZ_1.29.0.tar.gz PackageFileSize: 2.516 MiB