Package: TFHAZ Version: 1.29.0 Command: /home/biocbuild/bbs-3.21-bioc/R/bin/R CMD INSTALL TFHAZ StartedAt: 2025-02-09 15:40:02 -0500 (Sun, 09 Feb 2025) EndedAt: 2025-02-09 15:40:46 -0500 (Sun, 09 Feb 2025) EllapsedTime: 43.8 seconds RetCode: 0 Status: OK