Package: TFHAZ Version: 1.29.0 Command: chmod a+r TFHAZ -R && E:\biocbuild\bbs-3.21-bioc\R\bin\R.exe CMD build --keep-empty-dirs --no-resave-data TFHAZ StartedAt: 2025-02-12 22:11:49 -0500 (Wed, 12 Feb 2025) EndedAt: 2025-02-12 22:13:17 -0500 (Wed, 12 Feb 2025) EllapsedTime: 88.1 seconds RetCode: 0 Status: OK PackageFile: TFHAZ_1.29.0.tar.gz PackageFileSize: 2.398 MiB