Package: TFutils Version: 1.27.1 Command: /Library/Frameworks/R.framework/Resources/bin/R CMD build --keep-empty-dirs --no-resave-data TFutils StartedAt: 2025-02-09 17:48:16 -0500 (Sun, 09 Feb 2025) EndedAt: 2025-02-09 17:49:16 -0500 (Sun, 09 Feb 2025) EllapsedTime: 60.7 seconds RetCode: 0 Status: OK PackageFile: TFutils_1.27.1.tar.gz PackageFileSize: 6.014 MiB