Package: TFutils Version: 1.27.1 Command: /home/biocbuild/R/R/bin/R CMD INSTALL TFutils StartedAt: 2025-01-29 20:09:10 -0000 (Wed, 29 Jan 2025) EndedAt: 2025-01-29 20:10:26 -0000 (Wed, 29 Jan 2025) EllapsedTime: 76.6 seconds RetCode: 0 Status: OK