Package: TFutils Version: 1.27.1 Command: rm -rf TFutils.buildbin-libdir && mkdir TFutils.buildbin-libdir && /Users/biocbuild/BBS/utils/build-universal.sh TFutils_1.27.1.tar.gz /Library/Frameworks/R.framework/Resources/bin/R TFutils.buildbin-libdir StartedAt: 2025-02-13 01:02:34 -0500 (Thu, 13 Feb 2025) EndedAt: 2025-02-13 01:03:53 -0500 (Thu, 13 Feb 2025) EllapsedTime: 79.0 seconds RetCode: 0 Status: OK PackageFile: TFutils_1.27.1.tgz PackageFileSize: 6.325 MiB