Package: TFutils Version: 1.27.1 Command: /Library/Frameworks/R.framework/Resources/bin/R CMD INSTALL TFutils StartedAt: 2025-02-09 15:27:05 -0500 (Sun, 09 Feb 2025) EndedAt: 2025-02-09 15:28:21 -0500 (Sun, 09 Feb 2025) EllapsedTime: 76.6 seconds RetCode: 0 Status: OK