Package: TFutils Version: 1.27.1 Command: /home/biocbuild/bbs-3.21-bioc/R/bin/R CMD INSTALL TFutils StartedAt: 2025-02-09 15:56:39 -0500 (Sun, 09 Feb 2025) EndedAt: 2025-02-09 15:57:36 -0500 (Sun, 09 Feb 2025) EllapsedTime: 56.7 seconds RetCode: 0 Status: OK