Package: TIN Version: 1.39.0 Command: /Library/Frameworks/R.framework/Resources/bin/R CMD check --install=check:TIN.install-out.txt --library=/Library/Frameworks/R.framework/Resources/library --no-vignettes --timings TIN_1.39.0.tar.gz StartedAt: 2025-02-09 21:45:55 -0500 (Sun, 09 Feb 2025) EndedAt: 2025-02-09 21:47:06 -0500 (Sun, 09 Feb 2025) EllapsedTime: 70.9 seconds RetCode: 0 Status: OK CheckDir: TIN.Rcheck Warnings: 0