Package: TIN Version: 1.39.0 Command: /Library/Frameworks/R.framework/Resources/bin/R CMD build --keep-empty-dirs --no-resave-data TIN StartedAt: 2025-02-12 18:35:49 -0500 (Wed, 12 Feb 2025) EndedAt: 2025-02-12 18:36:46 -0500 (Wed, 12 Feb 2025) EllapsedTime: 57.2 seconds RetCode: 0 Status: OK PackageFile: TIN_1.39.0.tar.gz PackageFileSize: 4.592 MiB