Package: TIN Version: 1.39.0 Command: /home/biocbuild/bbs-3.21-bioc/R/bin/R CMD INSTALL TIN StartedAt: 2025-02-04 15:41:18 -0500 (Tue, 04 Feb 2025) EndedAt: 2025-02-04 15:41:38 -0500 (Tue, 04 Feb 2025) EllapsedTime: 20.4 seconds RetCode: 0 Status: OK