Package: TMixClust Version: 1.29.0 Command: /home/biocbuild/R/R/bin/R CMD build --keep-empty-dirs --no-resave-data TMixClust StartedAt: 2025-01-28 02:56:53 -0000 (Tue, 28 Jan 2025) EndedAt: 2025-01-28 02:57:18 -0000 (Tue, 28 Jan 2025) EllapsedTime: 25.0 seconds RetCode: 0 Status: OK PackageFile: TMixClust_1.29.0.tar.gz PackageFileSize: 488.9 KiB