Package: TMixClust Version: 1.29.0 Command: /home/biocbuild/R/R/bin/R CMD check --install=check:TMixClust.install-out.txt --library=/home/biocbuild/R/R/site-library --no-vignettes --timings TMixClust_1.29.0.tar.gz StartedAt: 2025-01-28 16:11:36 -0000 (Tue, 28 Jan 2025) EndedAt: 2025-01-28 16:13:38 -0000 (Tue, 28 Jan 2025) EllapsedTime: 122.2 seconds RetCode: 0 Status: OK CheckDir: TMixClust.Rcheck Warnings: 0