Package: TMixClust Version: 1.29.0 Command: /home/biocbuild/R/R/bin/R CMD INSTALL TMixClust StartedAt: 2025-01-29 20:26:16 -0000 (Wed, 29 Jan 2025) EndedAt: 2025-01-29 20:26:23 -0000 (Wed, 29 Jan 2025) EllapsedTime: 7.0 seconds RetCode: 0 Status: OK