Package: TMixClust Version: 1.29.0 Command: /Library/Frameworks/R.framework/Resources/bin/R CMD build --keep-empty-dirs --no-resave-data TMixClust StartedAt: 2025-02-03 18:39:24 -0500 (Mon, 03 Feb 2025) EndedAt: 2025-02-03 18:39:54 -0500 (Mon, 03 Feb 2025) EllapsedTime: 29.7 seconds RetCode: 0 Status: OK PackageFile: TMixClust_1.29.0.tar.gz PackageFileSize: 508.9 KiB