Package: TMixClust Version: 1.29.0 Command: /Library/Frameworks/R.framework/Resources/bin/R CMD check --install=check:TMixClust.install-out.txt --library=/Library/Frameworks/R.framework/Resources/library --no-vignettes --timings TMixClust_1.29.0.tar.gz StartedAt: 2025-02-03 23:50:14 -0500 (Mon, 03 Feb 2025) EndedAt: 2025-02-03 23:51:12 -0500 (Mon, 03 Feb 2025) EllapsedTime: 57.5 seconds RetCode: 0 Status: OK CheckDir: TMixClust.Rcheck Warnings: 0