Package: TMixClust Version: 1.29.0 Command: /home/biocbuild/bbs-3.21-bioc/R/bin/R CMD build --keep-empty-dirs --no-resave-data TMixClust StartedAt: 2025-02-03 19:45:36 -0500 (Mon, 03 Feb 2025) EndedAt: 2025-02-03 19:45:57 -0500 (Mon, 03 Feb 2025) EllapsedTime: 21.0 seconds RetCode: 0 Status: OK PackageFile: TMixClust_1.29.0.tar.gz PackageFileSize: 509 KiB