Package: TMixClust Version: 1.29.0 Command: /home/biocbuild/bbs-3.21-bioc/R/bin/R CMD check --install=check:TMixClust.install-out.txt --library=/home/biocbuild/bbs-3.21-bioc/R/site-library --timings TMixClust_1.29.0.tar.gz StartedAt: 2025-02-04 03:30:55 -0500 (Tue, 04 Feb 2025) EndedAt: 2025-02-04 03:32:08 -0500 (Tue, 04 Feb 2025) EllapsedTime: 73.1 seconds RetCode: 0 Status: OK CheckDir: TMixClust.Rcheck Warnings: 0