Package: TMixClust Version: 1.29.0 Command: /home/biocbuild/bbs-3.21-bioc/R/bin/R CMD INSTALL TMixClust StartedAt: 2025-02-09 15:13:55 -0500 (Sun, 09 Feb 2025) EndedAt: 2025-02-09 15:14:02 -0500 (Sun, 09 Feb 2025) EllapsedTime: 6.4 seconds RetCode: 0 Status: OK