Package: TOAST Version: 1.21.0 Command: /Library/Frameworks/R.framework/Resources/bin/R CMD build --keep-empty-dirs --no-resave-data TOAST StartedAt: 2025-02-09 17:49:16 -0500 (Sun, 09 Feb 2025) EndedAt: 2025-02-09 17:50:21 -0500 (Sun, 09 Feb 2025) EllapsedTime: 64.9 seconds RetCode: 0 Status: OK PackageFile: TOAST_1.21.0.tar.gz PackageFileSize: 3.625 MiB