Package: TOAST Version: 1.21.0 Command: chmod a+r TOAST -R && E:\biocbuild\bbs-3.21-bioc\R\bin\R.exe CMD build --keep-empty-dirs --no-resave-data TOAST StartedAt: 2025-02-09 22:07:11 -0500 (Sun, 09 Feb 2025) EndedAt: 2025-02-09 22:10:14 -0500 (Sun, 09 Feb 2025) EllapsedTime: 182.9 seconds RetCode: 0 Status: OK PackageFile: TOAST_1.21.0.tar.gz PackageFileSize: 3.219 MiB