Package: TOP Version: 1.7.0 Command: /Library/Frameworks/R.framework/Resources/bin/R CMD build --keep-empty-dirs --no-resave-data TOP StartedAt: 2025-02-12 17:50:02 -0500 (Wed, 12 Feb 2025) EndedAt: 2025-02-12 17:50:32 -0500 (Wed, 12 Feb 2025) EllapsedTime: 30.3 seconds RetCode: 0 Status: OK PackageFile: TOP_1.7.0.tar.gz PackageFileSize: 486.8 KiB