Package: TOP Version: 1.7.0 Command: /Library/Frameworks/R.framework/Resources/bin/R CMD check --install=check:TOP.install-out.txt --library=/Library/Frameworks/R.framework/Resources/library --no-vignettes --timings TOP_1.7.0.tar.gz StartedAt: 2025-02-09 21:46:38 -0500 (Sun, 09 Feb 2025) EndedAt: 2025-02-09 21:48:01 -0500 (Sun, 09 Feb 2025) EllapsedTime: 83.0 seconds RetCode: 0 Status: OK CheckDir: TOP.Rcheck Warnings: 0