Package: TOP Version: 1.7.0 Command: /home/biocbuild/bbs-3.21-bioc/R/bin/R CMD build --keep-empty-dirs --no-resave-data TOP StartedAt: 2025-02-12 19:33:13 -0500 (Wed, 12 Feb 2025) EndedAt: 2025-02-12 19:34:25 -0500 (Wed, 12 Feb 2025) EllapsedTime: 72.1 seconds RetCode: 0 Status: OK PackageFile: TOP_1.7.0.tar.gz PackageFileSize: 489.8 KiB