Package: TOP Version: 1.7.0 Command: /home/biocbuild/bbs-3.21-bioc/R/bin/R CMD check --install=check:TOP.install-out.txt --library=/home/biocbuild/bbs-3.21-bioc/R/site-library --timings TOP_1.7.0.tar.gz StartedAt: 2025-02-13 03:25:51 -0500 (Thu, 13 Feb 2025) EndedAt: 2025-02-13 03:30:11 -0500 (Thu, 13 Feb 2025) EllapsedTime: 259.3 seconds RetCode: 0 Status: OK CheckDir: TOP.Rcheck Warnings: 0