Package: TOP Version: 1.7.0 Command: rm -rf TOP.buildbin-libdir && mkdir TOP.buildbin-libdir && E:\biocbuild\bbs-3.21-bioc\R\bin\R.exe CMD INSTALL --build --library=TOP.buildbin-libdir TOP_1.7.0.tar.gz StartedAt: 2025-02-10 08:53:14 -0500 (Mon, 10 Feb 2025) EndedAt: 2025-02-10 08:53:51 -0500 (Mon, 10 Feb 2025) EllapsedTime: 37.0 seconds RetCode: 0 Status: OK PackageFile: TOP_1.7.0.zip PackageFileSize: 400.4 KiB