Package: TOP Version: 1.7.0 Command: E:\biocbuild\bbs-3.21-bioc\R\bin\R.exe CMD check --no-multiarch --install=check:TOP.install-out.txt --library=E:\biocbuild\bbs-3.21-bioc\R\library --no-vignettes --timings TOP_1.7.0.tar.gz StartedAt: 2025-02-13 06:27:04 -0500 (Thu, 13 Feb 2025) EndedAt: 2025-02-13 06:31:18 -0500 (Thu, 13 Feb 2025) EllapsedTime: 253.8 seconds RetCode: 0 Status: OK CheckDir: TOP.Rcheck Warnings: 0