Package: TPP Version: 3.35.0 Command: /Library/Frameworks/R.framework/Resources/bin/R CMD build --keep-empty-dirs --no-resave-data TPP StartedAt: 2025-02-12 17:50:16 -0500 (Wed, 12 Feb 2025) EndedAt: 2025-02-12 17:50:52 -0500 (Wed, 12 Feb 2025) EllapsedTime: 36.4 seconds RetCode: 0 Status: OK PackageFile: TPP_3.35.0.tar.gz PackageFileSize: 8.43 MiB