Package: TPP Version: 3.35.0 Command: /home/biocbuild/R/R/bin/R CMD INSTALL TPP StartedAt: 2025-01-29 20:31:37 -0000 (Wed, 29 Jan 2025) EndedAt: 2025-01-29 20:31:56 -0000 (Wed, 29 Jan 2025) EllapsedTime: 18.6 seconds RetCode: 0 Status: OK