Package: TPP Version: 3.35.0 Command: rm -rf TPP.buildbin-libdir && mkdir TPP.buildbin-libdir && /Users/biocbuild/BBS/utils/build-universal.sh TPP_3.35.0.tar.gz /Library/Frameworks/R.framework/Resources/bin/R TPP.buildbin-libdir StartedAt: 2025-02-13 01:03:10 -0500 (Thu, 13 Feb 2025) EndedAt: 2025-02-13 01:03:33 -0500 (Thu, 13 Feb 2025) EllapsedTime: 23.3 seconds RetCode: 0 Status: OK PackageFile: TPP_3.35.0.tgz PackageFileSize: 8.866 MiB