Package: TPP Version: 3.35.0 Command: /Library/Frameworks/R.framework/Resources/bin/R CMD build --keep-empty-dirs --no-resave-data TPP StartedAt: 2025-02-09 18:44:50 -0500 (Sun, 09 Feb 2025) EndedAt: 2025-02-09 18:46:40 -0500 (Sun, 09 Feb 2025) EllapsedTime: 109.6 seconds RetCode: 0 Status: OK PackageFile: TPP_3.35.0.tar.gz PackageFileSize: 8.43 MiB