Package: TPP Version: 3.35.0 Command: /home/biocbuild/bbs-3.21-bioc/R/bin/R CMD build --keep-empty-dirs --no-resave-data TPP StartedAt: 2025-02-09 19:37:44 -0500 (Sun, 09 Feb 2025) EndedAt: 2025-02-09 19:39:12 -0500 (Sun, 09 Feb 2025) EllapsedTime: 88.2 seconds RetCode: 0 Status: OK PackageFile: TPP_3.35.0.tar.gz PackageFileSize: 8.43 MiB