Package: TPP Version: 3.35.0 Command: rm -rf TPP.buildbin-libdir && mkdir TPP.buildbin-libdir && E:\biocbuild\bbs-3.21-bioc\R\bin\R.exe CMD INSTALL --build --library=TPP.buildbin-libdir TPP_3.35.0.tar.gz StartedAt: 2025-02-10 08:53:25 -0500 (Mon, 10 Feb 2025) EndedAt: 2025-02-10 08:54:16 -0500 (Mon, 10 Feb 2025) EllapsedTime: 51.3 seconds RetCode: 0 Status: OK PackageFile: TPP_3.35.0.zip PackageFileSize: 8.845 MiB