Package: TREG Version: 1.11.0 Command: rm -rf TREG.buildbin-libdir && mkdir TREG.buildbin-libdir && E:\biocbuild\bbs-3.21-bioc\R\bin\R.exe CMD INSTALL --build --library=TREG.buildbin-libdir TREG_1.11.0.tar.gz StartedAt: 2025-02-10 08:54:30 -0500 (Mon, 10 Feb 2025) EndedAt: 2025-02-10 08:54:56 -0500 (Mon, 10 Feb 2025) EllapsedTime: 26.5 seconds RetCode: 0 Status: OK PackageFile: TREG_1.11.0.zip PackageFileSize: 1.685 MiB