Package: TREG Version: 1.11.0 Command: chmod a+r TREG -R && E:\biocbuild\bbs-3.21-bioc\R\bin\R.exe CMD build --keep-empty-dirs --no-resave-data TREG StartedAt: 2025-02-09 22:11:02 -0500 (Sun, 09 Feb 2025) EndedAt: 2025-02-09 22:13:22 -0500 (Sun, 09 Feb 2025) EllapsedTime: 139.3 seconds RetCode: 0 Status: OK PackageFile: TREG_1.11.0.tar.gz PackageFileSize: 1.665 MiB