Package: TREG Version: 1.11.0 Command: E:\biocbuild\bbs-3.21-bioc\R\bin\R.exe CMD check --no-multiarch --install=check:TREG.install-out.txt --library=E:\biocbuild\bbs-3.21-bioc\R\library --no-vignettes --timings TREG_1.11.0.tar.gz StartedAt: 2025-02-10 06:21:11 -0500 (Mon, 10 Feb 2025) EndedAt: 2025-02-10 06:24:11 -0500 (Mon, 10 Feb 2025) EllapsedTime: 180.5 seconds RetCode: 0 Status: OK CheckDir: TREG.Rcheck Warnings: 0