Package: TREG Version: 1.11.0 Command: E:\biocbuild\bbs-3.21-bioc\R\bin\R.exe CMD INSTALL TREG StartedAt: 2025-02-12 16:07:40 -0500 (Wed, 12 Feb 2025) EndedAt: 2025-02-12 16:08:06 -0500 (Wed, 12 Feb 2025) EllapsedTime: 25.7 seconds RetCode: 0 Status: OK