Package: TSAR Version: 1.5.0 Command: /Library/Frameworks/R.framework/Resources/bin/R CMD build --keep-empty-dirs --no-resave-data TSAR StartedAt: 2025-02-12 18:38:37 -0500 (Wed, 12 Feb 2025) EndedAt: 2025-02-12 18:40:47 -0500 (Wed, 12 Feb 2025) EllapsedTime: 130.5 seconds RetCode: 0 Status: OK PackageFile: TSAR_1.5.0.tar.gz PackageFileSize: 4.045 MiB