Package: TSAR Version: 1.5.0 Command: /home/biocbuild/bbs-3.21-bioc/R/bin/R CMD check --install=check:TSAR.install-out.txt --library=/home/biocbuild/bbs-3.21-bioc/R/site-library --timings TSAR_1.5.0.tar.gz StartedAt: 2025-02-10 03:34:49 -0500 (Mon, 10 Feb 2025) EndedAt: 2025-02-10 03:39:05 -0500 (Mon, 10 Feb 2025) EllapsedTime: 256.4 seconds RetCode: 0 Status: OK CheckDir: TSAR.Rcheck Warnings: 0