############################################################################## ############################################################################## ### ### Running command: ### ### rm -rf TSAR.buildbin-libdir && mkdir TSAR.buildbin-libdir && E:\biocbuild\bbs-3.21-bioc\R\bin\R.exe CMD INSTALL --build --library=TSAR.buildbin-libdir TSAR_1.5.0.tar.gz ### ############################################################################## ############################################################################## * installing *source* package 'TSAR' ... ** this is package 'TSAR' version '1.5.0' ** using staged installation ** R ** data ** inst ** byte-compile and prepare package for lazy loading ** help *** installing help indices ** building package indices ** installing vignettes ** testing if installed package can be loaded from temporary location ** testing if installed package can be loaded from final location ** testing if installed package keeps a record of temporary installation path * MD5 sums packaged installation of 'TSAR' as TSAR_1.5.0.zip * DONE (TSAR)