Package: TSAR Version: 1.5.0 Command: chmod a+r TSAR -R && E:\biocbuild\bbs-3.21-bioc\R\bin\R.exe CMD build --keep-empty-dirs --no-resave-data TSAR StartedAt: 2025-02-12 22:19:28 -0500 (Wed, 12 Feb 2025) EndedAt: 2025-02-12 22:22:26 -0500 (Wed, 12 Feb 2025) EllapsedTime: 178.1 seconds RetCode: 0 Status: OK PackageFile: TSAR_1.5.0.tar.gz PackageFileSize: 3.549 MiB